BEGIN:VCALENDAR
VERSION:2.0
PRODID:spatie/icalendar-generator
NAME:Rollstuhl fahren mit den Augen [Swiss Abilities 2024]
X-WR-CALNAME:Rollstuhl fahren mit den Augen [Swiss Abilities 2024]
BEGIN:VTIMEZONE
TZID:Europe/Zurich
BEGIN:DAYLIGHT
DTSTART:20240331T020000
TZOFFSETFROM:+0100
TZOFFSETTO:+0200
END:DAYLIGHT
BEGIN:STANDARD
DTSTART:20241027T030000
TZOFFSETFROM:+0200
TZOFFSETTO:+0100
END:STANDARD
BEGIN:DAYLIGHT
DTSTART:20250330T020000
TZOFFSETFROM:+0100
TZOFFSETTO:+0200
END:DAYLIGHT
END:VTIMEZONE
BEGIN:VTIMEZONE
TZID:UTC
BEGIN:STANDARD
DTSTART:20250728T204104
TZOFFSETFROM:+0000
TZOFFSETTO:+0000
END:STANDARD
END:VTIMEZONE
BEGIN:VEVENT
UID:69ebd5602ed1d
DTSTAMP:20260424T204104Z
DTSTART;TZID=Europe/Zurich:20241129T141000
DTEND;TZID=Europe/Zurich:20241129T142500
SUMMARY:Rollstuhl fahren mit den Augen [Swiss Abilities 2024]
DESCRIPTION:https://www.swiss-abilities.ch/de/e/rollstuhl-fahren-mit-den-au
 gen.56092\n\nDie MyECC Rollstuhlsondersteuerung mit den Augen ist eine spe
 zialisierte Technologie\, die es Rollstuhlfahrern ermöglicht\, ihren Roll
 stuhl und andere verbundene Geräte allein durch Augenbewegungen zu steuer
 n.
LOCATION:Halle 2\, Symposium
END:VEVENT
END:VCALENDAR